BEGIN:VCALENDAR
VERSION:2.0
PRODID:-//Academia de Música - ECPv6.4.0//NONSGML v1.0//EN
CALSCALE:GREGORIAN
METHOD:PUBLISH
X-ORIGINAL-URL:https://www.amoa.pt
X-WR-CALDESC:Events for Academia de Música
REFRESH-INTERVAL;VALUE=DURATION:PT1H
X-Robots-Tag:noindex
X-PUBLISHED-TTL:PT1H
BEGIN:VTIMEZONE
TZID:Europe/Lisbon
BEGIN:DAYLIGHT
TZOFFSETFROM:+0000
TZOFFSETTO:+0100
TZNAME:WEST
DTSTART:20250330T010000
END:DAYLIGHT
BEGIN:STANDARD
TZOFFSETFROM:+0100
TZOFFSETTO:+0000
TZNAME:WET
DTSTART:20251026T010000
END:STANDARD
TZID:UTC
BEGIN:STANDARD
TZOFFSETFROM:+0000
TZOFFSETTO:+0000
TZNAME:UTC
DTSTART:20250101T000000
END:STANDARD
END:VTIMEZONE
BEGIN:VEVENT
DTSTART;TZID=Europe/Lisbon:20250111T100000
DTEND;TZID=Europe/Lisbon:20250111T120000
DTSTAMP:20260422T154251
CREATED:20250103T182312Z
LAST-MODIFIED:20250107T182419Z
UID:5829-1736589600-1736596800@www.amoa.pt
SUMMARY:Masterclass AMOA Plus Band
DESCRIPTION:A AMOA promove\, na manhã do próximo dia 11 de janeiro\, uma Masterclass da AMOA Plus Band!\n\n\n\nEsta Masterclass é totalmente gratuita e os participantes não têm que ter qualquer conhecimento prévio da prática de um instrumento musical!\n\n\n\nAs inscrições estão abertas e podem ser feitas em https://www.amoa.pt/atividades-24-25/ ou nos serviços administrativos da AMOA!
URL:https://www.amoa.pt/evento/masterclass-amoa-plus-band/
LOCATION:Academia de Música de Oliveira de Azeméis\, Avenida António José de Almeida\, 249\, Oliveira de Azeméis\, Oliveira de Azeméis\, 3720-239\, Portugal
ATTACH;FMTTYPE=image/jpeg:https://www.amoa.pt/wp-content/uploads/2025/01/MASTERCLASS_APB_JAN.25_VFINAL_web-scaled.jpg
ORGANIZER;CN="Academia de M%C3%BAsica de Oliveira de Azem%C3%A9is":MAILTO:info@amoa.pt
END:VEVENT
BEGIN:VEVENT
DTSTART;TZID=Europe/Lisbon:20250114T213000
DTEND;TZID=Europe/Lisbon:20250114T223000
DTSTAMP:20260422T154251
CREATED:20250106T143642Z
LAST-MODIFIED:20250113T150049Z
UID:5857-1736890200-1736893800@www.amoa.pt
SUMMARY:Concertos Interdisciplinares - Ensino Secundário
DESCRIPTION:Esta semana\, os nossos alunos do Curso Secundário de Música vão apresentar-se nos Concertos Interdisciplinares do 1.º Semestre!\n\n\n\nEste é um momento de avaliação aberto ao público\, pelo que convidamos todos os interessados a virem assistir a estes Concertos\, que decorrerão entre os dias 14 e 17 de janeiro\, às 21H30\, no Auditório da AMOA!\n\n\nO Concerto do dia 14 de janeiro conta as classes de Oboé e Trompete\, cujos docentes responsáveis são a Professora Telma Mota e o Professor Miguel Pais\, respetivamente.\n\n\n\n\nA entrada é livre\, estando sujeita à lotação da sala.
URL:https://www.amoa.pt/evento/concertos-interdisciplinares-ensino-secundario/
LOCATION:Academia de Música de Oliveira de Azeméis\, Avenida António José de Almeida\, 249\, Oliveira de Azeméis\, Oliveira de Azeméis\, 3720-239\, Portugal
ATTACH;FMTTYPE=image/jpeg:https://www.amoa.pt/wp-content/uploads/2025/01/472356090_1377673676915705_1969417150191305073_n.jpg
ORGANIZER;CN="Academia de M%C3%BAsica de Oliveira de Azem%C3%A9is":MAILTO:info@amoa.pt
END:VEVENT
BEGIN:VEVENT
DTSTART;TZID=Europe/Lisbon:20250115T213000
DTEND;TZID=Europe/Lisbon:20250115T223000
DTSTAMP:20260422T154251
CREATED:20250106T144147Z
LAST-MODIFIED:20250113T144700Z
UID:5859-1736976600-1736980200@www.amoa.pt
SUMMARY:Concertos Interdisciplinares - Ensino Secundário
DESCRIPTION:Esta semana\, os nossos alunos do Curso Secundário de Música vão apresentar-se nos Concertos Interdisciplinares do 1.º Semestre!\n\n\n\nEste é um momento de avaliação aberto ao público\, pelo que convidamos todos os interessados a virem assistir a estes Concertos\, que decorrerão entre os dias 14 e 17 de janeiro\, às 21H30\, no Auditório da AMOA!\n\n\nO Concerto do dia 15 de janeiro conta as classes de Bombardino\, Fagote\, Saxofone\, Percussão\, Violoncelo\, Trombone e Clarinete.\nDocentes responsáveis: Fábio Abrantes\, Bruna Carvalho\, Hugo Lopes\, Manuel Silva\, Francisco Cunha\, Sónia Torres\, Joel Santos e Sérgio Tavares. são a Professora Telma Mota e o Professor.\n\n\n\n\nA entrada é livre\, estando sujeita à lotação da sala.
URL:https://www.amoa.pt/evento/concertos-interdisciplinares-ensino-secundario-2/
LOCATION:Academia de Música de Oliveira de Azeméis\, Avenida António José de Almeida\, 249\, Oliveira de Azeméis\, Oliveira de Azeméis\, 3720-239\, Portugal
ATTACH;FMTTYPE=image/jpeg:https://www.amoa.pt/wp-content/uploads/2021/03/ConcertosInterdisciplinares_1semestre_SOPROS-scaled.jpg
ORGANIZER;CN="Academia de M%C3%BAsica de Oliveira de Azem%C3%A9is":MAILTO:info@amoa.pt
END:VEVENT
BEGIN:VEVENT
DTSTART;TZID=Europe/Lisbon:20250116T213000
DTEND;TZID=Europe/Lisbon:20250116T223000
DTSTAMP:20260422T154252
CREATED:20250113T144836Z
LAST-MODIFIED:20250113T150155Z
UID:5861-1737063000-1737066600@www.amoa.pt
SUMMARY:Concertos Interdisciplinares - Ensino Secundário
DESCRIPTION:Esta semana\, os nossos alunos do Curso Secundário de Música vão apresentar-se nos Concertos Interdisciplinares do 1.º Semestre!\n\n\n\nEste é um momento de avaliação aberto ao público\, pelo que convidamos todos os interessados a virem assistir a estes Concertos\, que decorrerão entre os dias 14 e 17 de janeiro\, às 21H30\, no Auditório da AMOA!\n\n\nO Concerto do dia 16 de janeiro conta as classes de Piano\, Guitarra Clássica\, Saxofone e Clarinete.\nDocentes responsáveis: Graciete Ferreira\, Rodrigo Barros\, Manuel Silva e Sérgio Tavares.\n\n\n\n\nA entrada é livre\, estando sujeita à lotação da sala.
URL:https://www.amoa.pt/evento/concertos-interdisciplinares-ensino-secundario-3/
LOCATION:Academia de Música de Oliveira de Azeméis\, Avenida António José de Almeida\, 249\, Oliveira de Azeméis\, Oliveira de Azeméis\, 3720-239\, Portugal
ATTACH;FMTTYPE=image/jpeg:https://www.amoa.pt/wp-content/uploads/2025/01/472356090_1377673676915705_1969417150191305073_n.jpg
ORGANIZER;CN="Academia de M%C3%BAsica de Oliveira de Azem%C3%A9is":MAILTO:info@amoa.pt
END:VEVENT
BEGIN:VEVENT
DTSTART;TZID=Europe/Lisbon:20250117T213000
DTEND;TZID=Europe/Lisbon:20250117T223000
DTSTAMP:20260422T154252
CREATED:20250106T144908Z
LAST-MODIFIED:20250113T150224Z
UID:5864-1737149400-1737153000@www.amoa.pt
SUMMARY:Concertos Interdisciplinares - Ensino Secundário
DESCRIPTION:Esta semana\, os nossos alunos do Curso Secundário de Música vão apresentar-se nos Concertos Interdisciplinares do 1.º Semestre!\n\n\n\nEste é um momento de avaliação aberto ao público\, pelo que convidamos todos os interessados a virem assistir a estes Concertos\, que decorrerão entre os dias 14 e 17 de janeiro\, às 21H30\, no Auditório da AMOA!\n\n\nO Concerto do dia 17 de janeiro conta as classes de Violino\, Clarinete\, Guitarra Clássica\, Trombone e Flauta Transversal.\nDocentes responsáveis: Mariana Covas\, Sérgio Tavares\, Rodrigo Barros\, Joel Santos e Sandra Camarinha.\n\n\n\n\nA entrada é livre\, estando sujeita à lotação da sala.
URL:https://www.amoa.pt/evento/concertos-interdisciplinares-ensino-secundario-4/
LOCATION:Academia de Música de Oliveira de Azeméis\, Avenida António José de Almeida\, 249\, Oliveira de Azeméis\, Oliveira de Azeméis\, 3720-239\, Portugal
ATTACH;FMTTYPE=image/jpeg:https://www.amoa.pt/wp-content/uploads/2021/03/ConcertosInterdisciplinares_1semestre_SOPROS-scaled.jpg
ORGANIZER;CN="Academia de M%C3%BAsica de Oliveira de Azem%C3%A9is":MAILTO:info@amoa.pt
END:VEVENT
BEGIN:VEVENT
DTSTART;TZID=UTC:20250120T173000
DTEND;TZID=UTC:20250120T183000
DTSTAMP:20260422T154252
CREATED:20250117T140729Z
LAST-MODIFIED:20250121T141855Z
UID:5872-1737394200-1737397800@www.amoa.pt
SUMMARY:Audições Interdisciplinares - 1.º Semestre
DESCRIPTION:De 20 a 24 de janeiro de 2025\, decorrem as Audições Interdisciplinares do 1.º Semestre!\n \nEste momento de avaliação é aberto ao público em geral.\n\n\n \n\n\nA Audição Interdisciplinar das 17H30 do dia 20 de janeiro\, decorre no Auditório da AMOA e conta com as classes de:\n– Piano (Prof.ª Graciete Ferreira e Prof.ª Cláudia Ramos)\n– Flauta Transversal (Prof.ª Sandra Camarinha)\n– Trompete (Prof. Miguel Pais)\n– Clarinete (Prof. Sérgio Tavares)\n– Viola d’Arco (Prof.ª Eva Brandão)\n– Guitarra Clássica (Prof. Rodrigo Barros)\n\n\n \n\n\nContamos com a visita de todos!
URL:https://www.amoa.pt/evento/audicoes-interdisciplinares-1-semestre-25/
LOCATION:Academia de Música de Oliveira de Azeméis\, Avenida António José de Almeida\, 249\, Oliveira de Azeméis\, Oliveira de Azeméis\, 3720-239\, Portugal
ATTACH;FMTTYPE=image/jpeg:https://www.amoa.pt/wp-content/uploads/2025/01/CARTAZ_fb_impress_20_17.30-scaled.jpg
ORGANIZER;CN="Academia de M%C3%BAsica de Oliveira de Azem%C3%A9is":MAILTO:info@amoa.pt
END:VEVENT
BEGIN:VEVENT
DTSTART;TZID=UTC:20250120T190000
DTEND;TZID=UTC:20250120T200000
DTSTAMP:20260422T154252
CREATED:20250117T140751Z
LAST-MODIFIED:20250121T141918Z
UID:5875-1737399600-1737403200@www.amoa.pt
SUMMARY:Audições Interdisciplinares - 1.º Semestre
DESCRIPTION:De 20 a 24 de janeiro de 2025\, decorrem as Audições Interdisciplinares do 1.º Semestre!\n \nEste momento de avaliação é aberto ao público em geral.\n\n\n \n\n\nA Audição Interdisciplinar das 19H00 do dia 20 de janeiro\, decorre no Auditório da AMOA e conta com as classes de:\n– Violoncelo (Prof.ª Sónia Torres)\n– Violino (Prof.ª Mariana Covas)\n– Viola d’Arco (Prof.ª Eva Brandão)\n– Bombardino (Prof. Fábio Abrantes)\n\n\n \n\n\nContamos com a visita de todos!
URL:https://www.amoa.pt/evento/audicoes-interdisciplinares-1-o-semestre-2-25/
LOCATION:Academia de Música de Oliveira de Azeméis\, Avenida António José de Almeida\, 249\, Oliveira de Azeméis\, Oliveira de Azeméis\, 3720-239\, Portugal
ATTACH;FMTTYPE=image/jpeg:https://www.amoa.pt/wp-content/uploads/2025/01/CARTAZ_fb_impress_20_19.00-scaled.jpg
ORGANIZER;CN="Academia de M%C3%BAsica de Oliveira de Azem%C3%A9is":MAILTO:info@amoa.pt
END:VEVENT
BEGIN:VEVENT
DTSTART;TZID=UTC:20250121T173000
DTEND;TZID=UTC:20250121T183000
DTSTAMP:20260422T154252
CREATED:20250121T141352Z
LAST-MODIFIED:20250121T142349Z
UID:5878-1737480600-1737484200@www.amoa.pt
SUMMARY:Audições Interdisciplinares - 1.º Semestre
DESCRIPTION:De 20 a 24 de janeiro de 2025\, decorrem as Audições Interdisciplinares do 1.º Semestre!\n \nEste momento de avaliação é aberto ao público em geral.\n\n\n \n\n\nA Audição Interdisciplinar das 17H30 do dia 21 de janeiro\, decorre no Auditório da AMOA e conta com as classes de:\n– Viola d’Arco (Prof.ª Eva Brandão)\n– Trompete (Prof. Miguel Pais)\n– Clarinete (Prof. Sérgio Tavares)\n– Piano (Prof.ª Graciete Ferreira)\n– Saxofone ( Prof. Manuel Silva)\n– Percussão (Prof. Francisco Cunha)\n– Violino (Prof.ª Mariana Covas)\n \n\n\n \n\n\nContamos com a visita de todos!
URL:https://www.amoa.pt/evento/audicoes-interdisciplinares-1-o-semestre-3-25/
LOCATION:Academia de Música de Oliveira de Azeméis\, Avenida António José de Almeida\, 249\, Oliveira de Azeméis\, Oliveira de Azeméis\, 3720-239\, Portugal
ATTACH;FMTTYPE=image/jpeg:https://www.amoa.pt/wp-content/uploads/2025/01/CARTAZ_fb_impress_21_17.30-scaled.jpg
ORGANIZER;CN="Academia de M%C3%BAsica de Oliveira de Azem%C3%A9is":MAILTO:info@amoa.pt
END:VEVENT
BEGIN:VEVENT
DTSTART;TZID=UTC:20250121T190000
DTEND;TZID=UTC:20250121T200000
DTSTAMP:20260422T154252
CREATED:20250121T142617Z
LAST-MODIFIED:20250121T142617Z
UID:5886-1737486000-1737489600@www.amoa.pt
SUMMARY:Audições Interdisciplinares - 1.º Semestre
DESCRIPTION:De 20 a 24 de janeiro de 2025\, decorrem as Audições Interdisciplinares do 1.º Semestre!\n \nEste momento de avaliação é aberto ao público em geral.\n\n\n \n\n\nA Audição Interdisciplinar das 19H00 do dia 21 de janeiro\, decorre no Auditório da AMOA e conta com as classes de:\n– Contrabaixo (Prof. Guilherme Torres)\n– Guitarra Clássica (Prof. Rodrigo Barros)\n– Violoncelo (Prof.ª Sónia Torres)\n– Percussão (Prof. Francisco Cunha)\n \n\n\nContamos com a visita de todos!
URL:https://www.amoa.pt/evento/audicoes-interdisciplinares-1-o-semestre-4-25/
LOCATION:Academia de Música de Oliveira de Azeméis\, Avenida António José de Almeida\, 249\, Oliveira de Azeméis\, Oliveira de Azeméis\, 3720-239\, Portugal
ATTACH;FMTTYPE=image/jpeg:https://www.amoa.pt/wp-content/uploads/2025/01/CARTAZ_fb_impress_21_19.00-scaled.jpg
ORGANIZER;CN="Academia de M%C3%BAsica de Oliveira de Azem%C3%A9is":MAILTO:info@amoa.pt
END:VEVENT
BEGIN:VEVENT
DTSTART;TZID=UTC:20250122T173000
DTEND;TZID=UTC:20250122T183000
DTSTAMP:20260422T154252
CREATED:20250121T143522Z
LAST-MODIFIED:20250121T143522Z
UID:5889-1737567000-1737570600@www.amoa.pt
SUMMARY:Audições Interdisciplinares - 1.º Semestre
DESCRIPTION:De 20 a 24 de janeiro de 2025\, decorrem as Audições Interdisciplinares do 1.º Semestre!\n \nEste momento de avaliação é aberto ao público em geral.\n\n\n \n\n\nA Audição Interdisciplinar das 17H30 do dia 22 de janeiro\, decorre no Auditório da AMOA e conta com as classes de:\n\n– Piano (Prof.ª Cláudia Ramos) \n-Fagote (Prof.ª Bruna Carvalho) \n-Oboé (Prof.ª Telma Mota) \n-Percussão (Prof. Francisco Cunha) \n-Saxofone (Prof. Manuel Silva) \n\n \n\n\nContamos com a visita de todos!
URL:https://www.amoa.pt/evento/audicoes-interdisciplinares-1-o-semestre-5-25/
LOCATION:Academia de Música de Oliveira de Azeméis\, Avenida António José de Almeida\, 249\, Oliveira de Azeméis\, Oliveira de Azeméis\, 3720-239\, Portugal
ATTACH;FMTTYPE=image/jpeg:https://www.amoa.pt/wp-content/uploads/2025/01/CARTAZ_fb_impress_22_17.30-scaled.jpg
ORGANIZER;CN="Academia de M%C3%BAsica de Oliveira de Azem%C3%A9is":MAILTO:info@amoa.pt
END:VEVENT
BEGIN:VEVENT
DTSTART;TZID=UTC:20250122T190000
DTEND;TZID=UTC:20250122T200000
DTSTAMP:20260422T154252
CREATED:20250121T143725Z
LAST-MODIFIED:20250121T143725Z
UID:5892-1737572400-1737576000@www.amoa.pt
SUMMARY:Audições Interdisciplinares - 1.º Semestre
DESCRIPTION:De 20 a 24 de janeiro de 2025\, decorrem as Audições Interdisciplinares do 1.º Semestre!\n \nEste momento de avaliação é aberto ao público em geral.\n\n\n \n\n\nA Audição Interdisciplinar das 19H00 do dia 22 de janeiro\, decorre no Auditório da AMOA e conta com as classes de:\n-Saxofone (Prof. Hugo Lopes)\n-Violino (Prof.ª Mariana Covas) \n-Contrabaixo (Prof. Guilherme Torres) \n-Piano (Prof.ª Cláudia Ramos) \n\n \n\n\nContamos com a visita de todos!
URL:https://www.amoa.pt/evento/audicoes-interdisciplinares-1-o-semestre-6-25/
LOCATION:Academia de Música de Oliveira de Azeméis\, Avenida António José de Almeida\, 249\, Oliveira de Azeméis\, Oliveira de Azeméis\, 3720-239\, Portugal
ATTACH;FMTTYPE=application/pdf:https://www.amoa.pt/wp-content/uploads/2025/01/CARTAZ_fb_impress_22_19.00.pdf
ORGANIZER;CN="Academia de M%C3%BAsica de Oliveira de Azem%C3%A9is":MAILTO:info@amoa.pt
END:VEVENT
BEGIN:VEVENT
DTSTART;TZID=UTC:20250123T173000
DTEND;TZID=UTC:20250123T183000
DTSTAMP:20260422T154252
CREATED:20250121T143932Z
LAST-MODIFIED:20250121T143932Z
UID:5895-1737653400-1737657000@www.amoa.pt
SUMMARY:Audições Interdisciplinares - 1.º Semestre
DESCRIPTION:De 20 a 24 de janeiro de 2025\, decorrem as Audições Interdisciplinares do 1.º Semestre!\n \nEste momento de avaliação é aberto ao público em geral.\n\n\n \n\n\nA Audição Interdisciplinar das 17H30 do dia 23 de janeiro\, decorre no Auditório da AMOA e conta com as classes de:\n\n-Guitarra Clássica (Prof. Rodrigo Barros) \n-Trombone (Prof. Joel Santos) \n\n\n-Percussão (Prof. Francisco Cunha) \n-Piano (Prof.ª Graciete Ferreira) \n\n-Trompete (Prof. Miguel Pais) \n\n-Clarinete (Prof. Sérgio Tavares) \n\n  \nContamos com a visita de todos!
URL:https://www.amoa.pt/evento/audicoes-interdisciplinares-1-o-semestre-7-25/
LOCATION:Academia de Música de Oliveira de Azeméis\, Avenida António José de Almeida\, 249\, Oliveira de Azeméis\, Oliveira de Azeméis\, 3720-239\, Portugal
ATTACH;FMTTYPE=image/jpeg:https://www.amoa.pt/wp-content/uploads/2025/01/CARTAZ_fb_impress_23_17.30-scaled.jpg
ORGANIZER;CN="Academia de M%C3%BAsica de Oliveira de Azem%C3%A9is":MAILTO:info@amoa.pt
END:VEVENT
BEGIN:VEVENT
DTSTART;TZID=UTC:20250123T190000
DTEND;TZID=UTC:20250123T200000
DTSTAMP:20260422T154252
CREATED:20250121T144142Z
LAST-MODIFIED:20250121T144142Z
UID:5898-1737658800-1737662400@www.amoa.pt
SUMMARY:Audições Interdisciplinares - 1.º Semestre
DESCRIPTION:De 20 a 24 de janeiro de 2025\, decorrem as Audições Interdisciplinares do 1.º Semestre!\n \nEste momento de avaliação é aberto ao público em geral.\n\n\n \n\n\nA Audição Interdisciplinar das 19H00 do dia 23 de janeiro\, decorre no Auditório da AMOA e conta com as classes de:\n \n-Clarinete (Prof. Sérgio Tavares)\n-Percussão (Prof. Francisco Cunha) \n-Violino (Prof.ª Mariana Covas) \n-Guitarra Clássica (Prof. Rodrigo Barros) \n\n \n\n\nContamos com a visita de todos!
URL:https://www.amoa.pt/evento/audicoes-interdisciplinares-1-o-semestre-8-25/
LOCATION:Academia de Música de Oliveira de Azeméis\, Avenida António José de Almeida\, 249\, Oliveira de Azeméis\, Oliveira de Azeméis\, 3720-239\, Portugal
ATTACH;FMTTYPE=image/jpeg:https://www.amoa.pt/wp-content/uploads/2025/01/CARTAZ_fb_impress_23_19.00-scaled.jpg
ORGANIZER;CN="Academia de M%C3%BAsica de Oliveira de Azem%C3%A9is":MAILTO:info@amoa.pt
END:VEVENT
BEGIN:VEVENT
DTSTART;TZID=UTC:20250124T173000
DTEND;TZID=UTC:20250124T183000
DTSTAMP:20260422T154252
CREATED:20250121T144541Z
LAST-MODIFIED:20250121T144541Z
UID:5901-1737739800-1737743400@www.amoa.pt
SUMMARY:Audições Interdisciplinares - 1.º Semestre
DESCRIPTION:De 20 a 24 de janeiro de 2025\, decorrem as Audições Interdisciplinares do 1.º Semestre!\n \nEste momento de avaliação é aberto ao público em geral.\n\n\n \n\n\nA Audição Interdisciplinar das 17H30 do dia 24 de janeiro\, decorre no Auditório da AMOA e conta com as classes de:\n\n-Violino (Prof.ª Mariana Covas) \n-Oboé (Prof.ª Telma Mota) \n-Flauta Transversal (Prof.ª Sandra Camarinha) \n-Guitarra Clássica (Prof. Rodrigo Barros) \n-Saxofone (Prof. Manuel Silva) \n-Trompa (Prof. Ricardo Costa) \n-Percussão (Prof. Francisco Cunha) \n\n  \nContamos com a visita de todos!
URL:https://www.amoa.pt/evento/audicoes-interdisciplinares-1-o-semestre-9-25/
LOCATION:Academia de Música de Oliveira de Azeméis\, Avenida António José de Almeida\, 249\, Oliveira de Azeméis\, Oliveira de Azeméis\, 3720-239\, Portugal
ATTACH;FMTTYPE=image/jpeg:https://www.amoa.pt/wp-content/uploads/2025/01/CARTAZ_fb_impress_24_17.30-scaled.jpg
ORGANIZER;CN="Academia de M%C3%BAsica de Oliveira de Azem%C3%A9is":MAILTO:info@amoa.pt
END:VEVENT
BEGIN:VEVENT
DTSTART;TZID=UTC:20250124T190000
DTEND;TZID=UTC:20250124T200000
DTSTAMP:20260422T154252
CREATED:20250121T144805Z
LAST-MODIFIED:20250121T144805Z
UID:5904-1737745200-1737748800@www.amoa.pt
SUMMARY:Audições Interdisciplinares - 1.º Semestre
DESCRIPTION:De 20 a 24 de janeiro de 2025\, decorrem as Audições Interdisciplinares do 1.º Semestre!\n \nEste momento de avaliação é aberto ao público em geral.\n\n\n \n\n\nA Audição Interdisciplinar das 19H00 do dia 24 de janeiro\, decorre no Auditório da AMOA e conta com as classes de:\n\nFagote (Prof.ª Bruna Carvalho) \nGuitarra Clássica (Prof. Rodrigo Barros) \nTrompa (Prof. Ricardo Costa) \nPiano (Prof.ª Graciete Ferreira) \nFlauta Transversal (Prof.ª Sandra Camarinha) \nBombardino (Prof. Fábio Abrantes) \n\n \n \n\n\nContamos com a visita de todos!
URL:https://www.amoa.pt/evento/audicoes-interdisciplinares-1-o-semestre-10-25/
LOCATION:Academia de Música de Oliveira de Azeméis\, Avenida António José de Almeida\, 249\, Oliveira de Azeméis\, Oliveira de Azeméis\, 3720-239\, Portugal
ATTACH;FMTTYPE=image/jpeg:https://www.amoa.pt/wp-content/uploads/2025/01/CARTAZ_fb_impress_24_19.00-scaled.jpg
ORGANIZER;CN="Academia de M%C3%BAsica de Oliveira de Azem%C3%A9is":MAILTO:info@amoa.pt
END:VEVENT
BEGIN:VEVENT
DTSTART;TZID=UTC:20250125T093000
DTEND;TZID=UTC:20250125T103000
DTSTAMP:20260422T154252
CREATED:20250121T145558Z
LAST-MODIFIED:20250121T145912Z
UID:5907-1737797400-1737801000@www.amoa.pt
SUMMARY:Audições Interdisciplinares - 1.º Semestre
DESCRIPTION:De 20 a 25 de janeiro de 2025\, decorrem as Audições Interdisciplinares do 1.º Semestre!\n \nEste momento de avaliação é aberto ao público em geral.\n\n\n \n\n\nA Audição Interdisciplinar das 09H30 do dia 25 de janeiro\, decorre no Auditório da AMOA e conta com as classes de:\n\n-Fagote (Prof.ª Bruna Carvalho) \n-Flauta Transversal (Prof.ª Sandra Camarinha) \n-Violino (Prof.ª Mariana Covas) \n-Violoncelo (Prof.ª Sónia Torres) \n\n \n \n\n\nContamos com a visita de todos!
URL:https://www.amoa.pt/evento/audicoes-interdisciplinares-1-o-semestre-11-25/
LOCATION:Academia de Música de Oliveira de Azeméis\, Avenida António José de Almeida\, 249\, Oliveira de Azeméis\, Oliveira de Azeméis\, 3720-239\, Portugal
ATTACH;FMTTYPE=image/jpeg:https://www.amoa.pt/wp-content/uploads/2025/01/INI_CARTAZ_fb_ig_25_09_web-scaled.jpg
ORGANIZER;CN="Academia de M%C3%BAsica de Oliveira de Azem%C3%A9is":MAILTO:info@amoa.pt
END:VEVENT
BEGIN:VEVENT
DTSTART;TZID=UTC:20250125T110000
DTEND;TZID=UTC:20250125T120000
DTSTAMP:20260422T154252
CREATED:20250121T145859Z
LAST-MODIFIED:20250121T145859Z
UID:5908-1737802800-1737806400@www.amoa.pt
SUMMARY:Audições Interdisciplinares - 1.º Semestre
DESCRIPTION:De 20 a 25 de janeiro de 2025\, decorrem as Audições Interdisciplinares do 1.º Semestre!\n \nEste momento de avaliação é aberto ao público em geral.\n\n\n \n\n\nA Audição Interdisciplinar das 11H00 do dia 25 de janeiro\, decorre no Auditório da AMOA e conta com as classes de:\n\nGuitarra Clássica (Prof. Rodrigo Barros) \nPiano (Prof.ª Graciete Ferreira) \nPercussão (Prof. Francisco Cunha) \nSaxofone (Prof. Manuel Silva) \nSaxofone (Prof. Hugo Lopes) \nTrompete (Prof. Miguel Pais) \n\n \n \n\n\nContamos com a visita de todos!
URL:https://www.amoa.pt/evento/audicoes-interdisciplinares-1-o-semestre-12-25/
LOCATION:Academia de Música de Oliveira de Azeméis\, Avenida António José de Almeida\, 249\, Oliveira de Azeméis\, Oliveira de Azeméis\, 3720-239\, Portugal
ATTACH;FMTTYPE=image/jpeg:https://www.amoa.pt/wp-content/uploads/2025/01/INI_CARTAZ_fb_ig_25_11_web-scaled.jpg
ORGANIZER;CN="Academia de M%C3%BAsica de Oliveira de Azem%C3%A9is":MAILTO:info@amoa.pt
END:VEVENT
END:VCALENDAR