BEGIN:VCALENDAR
VERSION:2.0
PRODID:-//Academia de Música - ECPv6.4.0//NONSGML v1.0//EN
CALSCALE:GREGORIAN
METHOD:PUBLISH
X-ORIGINAL-URL:https://www.amoa.pt
X-WR-CALDESC:Events for Academia de Música
REFRESH-INTERVAL;VALUE=DURATION:PT1H
X-Robots-Tag:noindex
X-PUBLISHED-TTL:PT1H
BEGIN:VTIMEZONE
TZID:Europe/Lisbon
BEGIN:DAYLIGHT
TZOFFSETFROM:+0000
TZOFFSETTO:+0100
TZNAME:WEST
DTSTART:20240331T010000
END:DAYLIGHT
BEGIN:STANDARD
TZOFFSETFROM:+0100
TZOFFSETTO:+0000
TZNAME:WET
DTSTART:20241027T010000
END:STANDARD
END:VTIMEZONE
BEGIN:VEVENT
DTSTART;TZID=Europe/Lisbon:20241212T210000
DTEND;TZID=Europe/Lisbon:20241212T220000
DTSTAMP:20260422T172044
CREATED:20241120T165848Z
LAST-MODIFIED:20241120T165848Z
UID:5757-1734037200-1734040800@www.amoa.pt
SUMMARY:Concerto de Natal da Orquestra de Sopros
DESCRIPTION:A AMOA promove\, no próximo dia 12 de dezembro\, às 21H\, no TeMA\, o Concerto de Natal da Orquestra de Sopros!\n\n\n“Um conto de Natal”\, com narração de João Amorim e Direção de Manuel Silva.\n\n\nBilhetes já disponíveis no TeMA.
URL:https://www.amoa.pt/evento/concerto-de-natal-da-orquestra-de-sopros/
LOCATION:Teatro Municipal de Oliveira de Azeméis\, Avenida Dr. António José de Almeida\, Oliveira de Azeméis\, 3720-239\, Portugal
ATTACH;FMTTYPE=image/jpeg:https://www.amoa.pt/wp-content/uploads/2024/11/Concerto-de-Natal_Orquestra-de-Sopros.jpg
ORGANIZER;CN="Academia de M%C3%BAsica de Oliveira de Azem%C3%A9is":MAILTO:info@amoa.pt
END:VEVENT
BEGIN:VEVENT
DTSTART;TZID=Europe/Lisbon:20241214T143000
DTEND;TZID=Europe/Lisbon:20241214T163000
DTSTAMP:20260422T172044
CREATED:20241212T133139Z
LAST-MODIFIED:20250113T133430Z
UID:5835-1734186600-1734193800@www.amoa.pt
SUMMARY:Concerto de Natal da AMOA Big Band
DESCRIPTION:A AMOA Big Band vai participar no Natal Comercial\, organizado pelo Município de Oliveira de Azeméis.\n\nAssim\, no dia 14 de dezembro\, às 14H30\, no Largo da República\, esperamos por todos vocês!\n\n\nAMOA BIG BAND
URL:https://www.amoa.pt/evento/concerto-de-natal-da-amoa-big-band/
LOCATION:Largo da República\, Largo da República\, Oliveira de Azeméis\, \, 3720-240 Oliveira de Azeméis
ATTACH;FMTTYPE=image/jpeg:https://www.amoa.pt/wp-content/uploads/2025/01/470148753_600192532587652_5952130129402553670_n.jpg
ORGANIZER;CN="Academia de M%C3%BAsica de Oliveira de Azem%C3%A9is":MAILTO:info@amoa.pt
END:VEVENT
BEGIN:VEVENT
DTSTART;TZID=Europe/Lisbon:20241216T090000
DTEND;TZID=Europe/Lisbon:20241216T120000
DTSTAMP:20260422T172044
CREATED:20241213T133433Z
LAST-MODIFIED:20250113T135039Z
UID:5838-1734339600-1734350400@www.amoa.pt
SUMMARY:Pinheirinho de Natal on Tour
DESCRIPTION:A AMOA vai estar uma semana em digressão \n\n\nDurante a próxima semana\, a AMOA irá percorrer várias Escolas Básicas e Jardins de Infância do concelho para apresentar o conto de Natal ” O Pinheirinho de Natal”!\n\n\nAo todo\, serão 15 sessões que levarão a história a cerca de mil crianças!
URL:https://www.amoa.pt/evento/pinheirinho-de-natal-on-tour/
ATTACH;FMTTYPE=image/jpeg:https://www.amoa.pt/wp-content/uploads/2025/01/0.1.-CAPA.jpg
ORGANIZER;CN="Academia de M%C3%BAsica de Oliveira de Azem%C3%A9is":MAILTO:info@amoa.pt
END:VEVENT
BEGIN:VEVENT
DTSTART;TZID=Europe/Lisbon:20241216T190000
DTEND;TZID=Europe/Lisbon:20241216T200000
DTSTAMP:20260422T172044
CREATED:20241213T133810Z
LAST-MODIFIED:20250113T133950Z
UID:5841-1734375600-1734379200@www.amoa.pt
SUMMARY:Audição de Natal da Classe Suzuki
DESCRIPTION:A Classe Suzuki apresenta\, no próximo dia 16 de dezembro a sua Audição de Natal! \n  \nÀs 19:00\, no Auditório da AMOA!
URL:https://www.amoa.pt/evento/audicao-de-natal-da-classe-suzuki/
LOCATION:Academia de Música de Oliveira de Azeméis\, Avenida António José de Almeida\, 249\, Oliveira de Azeméis\, Oliveira de Azeméis\, 3720-239\, Portugal
ORGANIZER;CN="Academia de M%C3%BAsica de Oliveira de Azem%C3%A9is":MAILTO:info@amoa.pt
END:VEVENT
BEGIN:VEVENT
DTSTART;TZID=Europe/Lisbon:20241217T090000
DTEND;TZID=Europe/Lisbon:20241217T120000
DTSTAMP:20260422T172044
CREATED:20250113T134721Z
LAST-MODIFIED:20250113T135409Z
UID:5847-1734426000-1734436800@www.amoa.pt
SUMMARY:Pinheirinho de Natal on Tour
DESCRIPTION:A AMOA vai estar uma semana em digressão \n\n\nDurante a próxima semana\, a AMOA irá percorrer várias Escolas Básicas e Jardins de Infância do concelho para apresentar o conto de Natal ” O Pinheirinho de Natal”!\n\n\nAo todo\, serão 15 sessões que levarão a história a cerca de mil crianças!
URL:https://www.amoa.pt/evento/pinheirinho-de-natal-on-tour-2/
ATTACH;FMTTYPE=image/jpeg:https://www.amoa.pt/wp-content/uploads/2025/01/0.1.-CAPA.jpg
ORGANIZER;CN="Academia de M%C3%BAsica de Oliveira de Azem%C3%A9is":MAILTO:info@amoa.pt
END:VEVENT
BEGIN:VEVENT
DTSTART;TZID=Europe/Lisbon:20241218T090000
DTEND;TZID=Europe/Lisbon:20241218T120000
DTSTAMP:20260422T172044
CREATED:20250113T134809Z
LAST-MODIFIED:20250113T135505Z
UID:5849-1734512400-1734523200@www.amoa.pt
SUMMARY:Pinheirinho de Natal on Tour
DESCRIPTION:A AMOA vai estar uma semana em digressão \n\n\nDurante a próxima semana\, a AMOA irá percorrer várias Escolas Básicas e Jardins de Infância do concelho para apresentar o conto de Natal ” O Pinheirinho de Natal”!\n\n\nAo todo\, serão 15 sessões que levarão a história a cerca de mil crianças!
URL:https://www.amoa.pt/evento/pinheirinho-de-natal-on-tour-3/
ATTACH;FMTTYPE=image/jpeg:https://www.amoa.pt/wp-content/uploads/2025/01/0.1.-CAPA.jpg
ORGANIZER;CN="Academia de M%C3%BAsica de Oliveira de Azem%C3%A9is":MAILTO:info@amoa.pt
END:VEVENT
BEGIN:VEVENT
DTSTART;TZID=Europe/Lisbon:20241219T090000
DTEND;TZID=Europe/Lisbon:20241219T120000
DTSTAMP:20260422T172044
CREATED:20250113T134937Z
LAST-MODIFIED:20250113T135615Z
UID:5851-1734598800-1734609600@www.amoa.pt
SUMMARY:Pinheirinho de Natal on Tour
DESCRIPTION:A AMOA vai estar uma semana em digressão \n\n\nDurante a próxima semana\, a AMOA irá percorrer várias Escolas Básicas e Jardins de Infância do concelho para apresentar o conto de Natal ” O Pinheirinho de Natal”!\n\n\nAo todo\, serão 15 sessões que levarão a história a cerca de mil crianças!
URL:https://www.amoa.pt/evento/pinheirinho-de-natal-on-tour-4/
ATTACH;FMTTYPE=image/jpeg:https://www.amoa.pt/wp-content/uploads/2025/01/0.1.-CAPA.jpg
ORGANIZER;CN="Academia de M%C3%BAsica de Oliveira de Azem%C3%A9is":MAILTO:info@amoa.pt
END:VEVENT
BEGIN:VEVENT
DTSTART;TZID=Europe/Lisbon:20241220T090000
DTEND;TZID=Europe/Lisbon:20241220T120000
DTSTAMP:20260422T172044
CREATED:20250113T134952Z
LAST-MODIFIED:20250113T135711Z
UID:5853-1734685200-1734696000@www.amoa.pt
SUMMARY:Pinheirinho de Natal on Tour
DESCRIPTION:A AMOA vai estar uma semana em digressão \n\n\nDurante a próxima semana\, a AMOA irá percorrer várias Escolas Básicas e Jardins de Infância do concelho para apresentar o conto de Natal ” O Pinheirinho de Natal”!\n\n\nAo todo\, serão 15 sessões que levarão a história a cerca de mil crianças!
URL:https://www.amoa.pt/evento/pinheirinho-de-natal-on-tour-5/
ATTACH;FMTTYPE=image/jpeg:https://www.amoa.pt/wp-content/uploads/2025/01/0.1.-CAPA.jpg
ORGANIZER;CN="Academia de M%C3%BAsica de Oliveira de Azem%C3%A9is":MAILTO:info@amoa.pt
END:VEVENT
BEGIN:VEVENT
DTSTART;TZID=Europe/Lisbon:20241221T110000
DTEND;TZID=Europe/Lisbon:20241221T120000
DTSTAMP:20260422T172044
CREATED:20241221T095246Z
LAST-MODIFIED:20241221T095246Z
UID:5788-1734778800-1734782400@www.amoa.pt
SUMMARY:Mini Concerto de Natal
DESCRIPTION:A AMOA promove\, na manhã do dia 21 de dezembro\, o Mini Concerto de Natal!\n\nCom as classes de Pré-iniciação Musical\, Iniciação Musical e Ensemble de Guitarras\, o Concerto terá lugar às 11H00\, no Auditório da AMOA!
URL:https://www.amoa.pt/evento/mini-concerto-de-natal-2/
LOCATION:Academia de Música de Oliveira de Azeméis\, Avenida António José de Almeida\, 249\, Oliveira de Azeméis\, Oliveira de Azeméis\, 3720-239\, Portugal
ATTACH;FMTTYPE=image/png:https://www.amoa.pt/wp-content/uploads/2024/12/Mini-Concerto-de-Natal.png
ORGANIZER;CN="Academia de M%C3%BAsica de Oliveira de Azem%C3%A9is":MAILTO:info@amoa.pt
END:VEVENT
BEGIN:VEVENT
DTSTART;TZID=Europe/Lisbon:20241221T210000
DTEND;TZID=Europe/Lisbon:20241221T220000
DTSTAMP:20260422T172044
CREATED:20241221T095524Z
LAST-MODIFIED:20241221T095524Z
UID:5791-1734814800-1734818400@www.amoa.pt
SUMMARY:Concerto de Natal do Coro e Ensembles de Metais e Flautas
DESCRIPTION:A AMOA promove\, no próximo dia 21 de dezembro\, às 21H\, no Auditório Comendador Ângelo Azevedo\, em São Roque\, o Concerto de Natal do Coro e Ensembles de Metais e Flautas!\n\n\nDireção de Graciete Ferreira.\n\n\nBilhetes já disponíveis na secretaria da AMOA. Limite de 2 bilhetes por aluno participante.
URL:https://www.amoa.pt/evento/concerto-de-natal-do-coro-e-ensembles-de-metais-e-flautas/
LOCATION:Auditório Comendador Ângelo Azevedo\, R. de Sourzac 55\, Oliveira de Azeméis\, São Roque\, 3720-693\, Portugal
ATTACH;FMTTYPE=image/jpeg:https://www.amoa.pt/wp-content/uploads/2021/03/Concerto-de-Natal_CoroeEnsembles_21.12.24.jpg
ORGANIZER;CN="Academia de M%C3%BAsica de Oliveira de Azem%C3%A9is":MAILTO:info@amoa.pt
END:VEVENT
END:VCALENDAR