BEGIN:VCALENDAR
VERSION:2.0
PRODID:-//Academia de Música - ECPv6.4.0//NONSGML v1.0//EN
CALSCALE:GREGORIAN
METHOD:PUBLISH
X-ORIGINAL-URL:https://www.amoa.pt
X-WR-CALDESC:Events for Academia de Música
REFRESH-INTERVAL;VALUE=DURATION:PT1H
X-Robots-Tag:noindex
X-PUBLISHED-TTL:PT1H
BEGIN:VTIMEZONE
TZID:Europe/Lisbon
BEGIN:DAYLIGHT
TZOFFSETFROM:+0000
TZOFFSETTO:+0100
TZNAME:WEST
DTSTART:20240331T010000
END:DAYLIGHT
BEGIN:STANDARD
TZOFFSETFROM:+0100
TZOFFSETTO:+0000
TZNAME:WET
DTSTART:20241027T010000
END:STANDARD
END:VTIMEZONE
BEGIN:VEVENT
DTSTART;TZID=Europe/Lisbon:20240907T090000
DTEND;TZID=Europe/Lisbon:20240907T130000
DTSTAMP:20260422T220126
CREATED:20240805T140746Z
LAST-MODIFIED:20240805T140746Z
UID:5655-1725699600-1725714000@www.amoa.pt
SUMMARY:Aulas abertas | Iniciação à Música
DESCRIPTION:A AMOA já está a trabalhar no início de mais um ano letivo!\n\nE\, como é já habitual\, volta a promover AULAS ABERTAS de Iniciação Musical!\nA música contribui para cultivar a sensibilidade e a imaginação e possibilita o desenvolvimento da expressão e da criatividade. \n\n\nE a AMOA continua a trabalhar no sentido de promover a cultura musical junto de todos\, desde tenra idade! \nDesta forma\, promove duas sessões de aulas abertas\, nos dias 7 e 14 de setembro\, entre as 09H00 e as 13H00. \nEstas aulas abertas são gratuitas e destinam-se a crianças entre os 3 e os 5 anos (pré-iniciação) e entre os 6 e os 9 anos (iniciação musical)\nAs inscrições podem ser feitas em https://www.amoa.pt/atividades-24-25/
URL:https://www.amoa.pt/evento/aulas-abertas-iniciacao-a-musica/
LOCATION:Academia de Música de Oliveira de Azeméis\, Avenida António José de Almeida\, 249\, Oliveira de Azeméis\, Oliveira de Azeméis\, 3720-239\, Portugal
ATTACH;FMTTYPE=image/jpeg:https://www.amoa.pt/wp-content/uploads/2024/08/Cartaz_Aulas-abertas_Iniciacao.jpg
ORGANIZER;CN="Academia de M%C3%BAsica de Oliveira de Azem%C3%A9is":MAILTO:info@amoa.pt
END:VEVENT
BEGIN:VEVENT
DTSTART;TZID=Europe/Lisbon:20240914T090000
DTEND;TZID=Europe/Lisbon:20240914T130000
DTSTAMP:20260422T220126
CREATED:20240805T140801Z
LAST-MODIFIED:20240805T140801Z
UID:5657-1726304400-1726318800@www.amoa.pt
SUMMARY:Aulas abertas | Iniciação à Música
DESCRIPTION:A AMOA já está a trabalhar no início de mais um ano letivo!\n\nE\, como é já habitual\, volta a promover AULAS ABERTAS de Iniciação Musical!\nA música contribui para cultivar a sensibilidade e a imaginação e possibilita o desenvolvimento da expressão e da criatividade. \n\n\nE a AMOA continua a trabalhar no sentido de promover a cultura musical junto de todos\, desde tenra idade! \nDesta forma\, promove duas sessões de aulas abertas\, nos dias 7 e 14 de setembro\, entre as 09H00 e as 13H00. \nEstas aulas abertas são gratuitas e destinam-se a crianças entre os 3 e os 5 anos (pré-iniciação) e entre os 6 e os 9 anos (iniciação musical)\nAs inscrições podem ser feitas em https://www.amoa.pt/atividades-24-25/
URL:https://www.amoa.pt/evento/aulas-abertas-iniciacao-a-musica-2/
LOCATION:Academia de Música de Oliveira de Azeméis\, Avenida António José de Almeida\, 249\, Oliveira de Azeméis\, Oliveira de Azeméis\, 3720-239\, Portugal
ATTACH;FMTTYPE=image/jpeg:https://www.amoa.pt/wp-content/uploads/2024/08/Cartaz_Aulas-abertas_Iniciacao.jpg
ORGANIZER;CN="Academia de M%C3%BAsica de Oliveira de Azem%C3%A9is":MAILTO:info@amoa.pt
END:VEVENT
BEGIN:VEVENT
DTSTART;TZID=Europe/Lisbon:20240916T080000
DTEND;TZID=Europe/Lisbon:20240916T170000
DTSTAMP:20260422T220126
CREATED:20240913T125901Z
LAST-MODIFIED:20250113T140027Z
UID:5855-1726473600-1726506000@www.amoa.pt
SUMMARY:Início do ano letivo | Início 1.º semestre
DESCRIPTION:
URL:https://www.amoa.pt/evento/inicio-do-ano-letivo-inicio-1-o-semestre/
END:VEVENT
BEGIN:VEVENT
DTSTART;TZID=Europe/Lisbon:20240928T100000
DTEND;TZID=Europe/Lisbon:20240928T130000
DTSTAMP:20260422T220126
CREATED:20240920T112128Z
LAST-MODIFIED:20240920T112128Z
UID:5693-1727517600-1727528400@www.amoa.pt
SUMMARY:Aulas abertas | Rockschool
DESCRIPTION:A AMOA já iniciou mais um ano letivo!\n\nE isso significa que arrancará mais um ano de aulas dos Cursos Rockschool!\nOs Cursos Rockschool podem ser frequentados desde os 12 anos de idade e têm disponíveis os seguintes instrumentos: Bateria\, Guitarra\, Baixo\, Canto e Piano. \n\n\nNo sentido de promover estes cursos e dar a conhecer esta oferta formativa à comunidade\, a AMOA organiza\, mais uma vez\, aulas abertas para os Cursos Rockschool!! \nEstas aulas abertas são gratuitas e as inscrições podem ser feitas em https://www.amoa.pt/atividades-24-25/
URL:https://www.amoa.pt/evento/aulas-abertas-rockschool24-25/
LOCATION:Academia de Música de Oliveira de Azeméis\, Avenida António José de Almeida\, 249\, Oliveira de Azeméis\, Oliveira de Azeméis\, 3720-239\, Portugal
ATTACH;FMTTYPE=image/jpeg:https://www.amoa.pt/wp-content/uploads/2024/09/AULAS-ABERTAS-RS_24.25.jpg
ORGANIZER;CN="Academia de M%C3%BAsica de Oliveira de Azem%C3%A9is":MAILTO:info@amoa.pt
END:VEVENT
END:VCALENDAR