BEGIN:VCALENDAR
VERSION:2.0
PRODID:-//Academia de Música - ECPv6.4.0//NONSGML v1.0//EN
CALSCALE:GREGORIAN
METHOD:PUBLISH
X-ORIGINAL-URL:https://www.amoa.pt
X-WR-CALDESC:Events for Academia de Música
REFRESH-INTERVAL;VALUE=DURATION:PT1H
X-Robots-Tag:noindex
X-PUBLISHED-TTL:PT1H
BEGIN:VTIMEZONE
TZID:Europe/Lisbon
BEGIN:DAYLIGHT
TZOFFSETFROM:+0000
TZOFFSETTO:+0100
TZNAME:WEST
DTSTART:20240331T010000
END:DAYLIGHT
BEGIN:STANDARD
TZOFFSETFROM:+0100
TZOFFSETTO:+0000
TZNAME:WET
DTSTART:20241027T010000
END:STANDARD
END:VTIMEZONE
BEGIN:VEVENT
DTSTART;TZID=Europe/Lisbon:20241118T103000
DTEND;TZID=Europe/Lisbon:20241118T123000
DTSTAMP:20260422T203038
CREATED:20241118T095214Z
LAST-MODIFIED:20241118T095227Z
UID:5740-1731925800-1731933000@www.amoa.pt
SUMMARY:Workshop de Manutenção de Instrumentos de Sopro - Metais
DESCRIPTION:A AMOA promove\, no próximo dia 18 de novembro\, um Workshop de Manutenção de Instrumentos de Sopro com Rui Pedro Silva!\n\n\n\nAs inscrições já estão abertas e podem ser feitas em https://www.amoa.pt/atividades-24-25/ até ao dia 10 de novembro!
URL:https://www.amoa.pt/evento/workshop-de-manutencao-de-instrumentos-de-sopro-metais/
LOCATION:Academia de Música de Oliveira de Azeméis\, Avenida António José de Almeida\, 249\, Oliveira de Azeméis\, Oliveira de Azeméis\, 3720-239\, Portugal
ATTACH;FMTTYPE=image/jpeg:https://www.amoa.pt/wp-content/uploads/2024/11/MANUT.-INSTRUMENTOS-DE-SOPRO.jpg
ORGANIZER;CN="Academia de M%C3%BAsica de Oliveira de Azem%C3%A9is":MAILTO:info@amoa.pt
END:VEVENT
BEGIN:VEVENT
DTSTART;TZID=Europe/Lisbon:20241118T140000
DTEND;TZID=Europe/Lisbon:20241118T160000
DTSTAMP:20260422T203038
CREATED:20241118T095254Z
LAST-MODIFIED:20241118T095254Z
UID:5742-1731938400-1731945600@www.amoa.pt
SUMMARY:Workshop de Manutenção de Instrumentos de Sopro - Madeiras
DESCRIPTION:A AMOA promove\, no próximo dia 18 de novembro\, um Workshop de Manutenção de Instrumentos de Sopro com Rui Pedro Silva!\n\n\n\nAs inscrições já estão abertas e podem ser feitas em https://www.amoa.pt/atividades-24-25/ até ao dia 10 de novembro!
URL:https://www.amoa.pt/evento/workshop-de-manutencao-de-instrumentos-de-sopro-madeiras/
LOCATION:Academia de Música de Oliveira de Azeméis\, Avenida António José de Almeida\, 249\, Oliveira de Azeméis\, Oliveira de Azeméis\, 3720-239\, Portugal
ATTACH;FMTTYPE=image/jpeg:https://www.amoa.pt/wp-content/uploads/2024/11/MANUT.-INSTRUMENTOS-DE-SOPRO.jpg
ORGANIZER;CN="Academia de M%C3%BAsica de Oliveira de Azem%C3%A9is":MAILTO:info@amoa.pt
END:VEVENT
END:VCALENDAR