BEGIN:VCALENDAR
VERSION:2.0
PRODID:-//Academia de Música - ECPv6.4.0//NONSGML v1.0//EN
CALSCALE:GREGORIAN
METHOD:PUBLISH
X-ORIGINAL-URL:https://www.amoa.pt
X-WR-CALDESC:Events for Academia de Música
REFRESH-INTERVAL;VALUE=DURATION:PT1H
X-Robots-Tag:noindex
X-PUBLISHED-TTL:PT1H
BEGIN:VTIMEZONE
TZID:Europe/Lisbon
BEGIN:DAYLIGHT
TZOFFSETFROM:+0000
TZOFFSETTO:+0100
TZNAME:WEST
DTSTART:20240331T010000
END:DAYLIGHT
BEGIN:STANDARD
TZOFFSETFROM:+0100
TZOFFSETTO:+0000
TZNAME:WET
DTSTART:20241027T010000
END:STANDARD
END:VTIMEZONE
BEGIN:VEVENT
DTSTART;TZID=Europe/Lisbon:20240702T143000
DTEND;TZID=Europe/Lisbon:20240702T173000
DTSTAMP:20260423T023905
CREATED:20240626T094349Z
LAST-MODIFIED:20240626T094355Z
UID:5616-1719930600-1719941400@www.amoa.pt
SUMMARY:Recitais Finais de Curso - Curso Secundário
DESCRIPTION:O percurso dos nossos finalistas na AMOA está prestes a chegar ao fim!\n\n\nNos dias 28 de junho e 01 e 02 de julho\, os alunos do 12.º ano do Curso Secundário de Música irão apresentar os seus recitais finais de curso!\n\n\nEste último momento de avaliação é aberto ao público\, pelo que convidamos todos a marcarem presença no auditório da AMOA!
URL:https://www.amoa.pt/evento/recitais-finais-de-curso-curso-secundario-3/
LOCATION:Academia de Música de Oliveira de Azeméis\, Avenida António José de Almeida\, 249\, Oliveira de Azeméis\, Oliveira de Azeméis\, 3720-239\, Portugal
ATTACH;FMTTYPE=image/jpeg:https://www.amoa.pt/wp-content/uploads/2024/06/Recital-Ensino-Secundario_02.07-scaled.jpg
ORGANIZER;CN="Academia de M%C3%BAsica de Oliveira de Azem%C3%A9is":MAILTO:info@amoa.pt
END:VEVENT
END:VCALENDAR