BEGIN:VCALENDAR
VERSION:2.0
PRODID:-//Academia de Música - ECPv6.4.0//NONSGML v1.0//EN
CALSCALE:GREGORIAN
METHOD:PUBLISH
X-WR-CALNAME:Academia de Música
X-ORIGINAL-URL:https://www.amoa.pt
X-WR-CALDESC:Events for Academia de Música
REFRESH-INTERVAL;VALUE=DURATION:PT1H
X-Robots-Tag:noindex
X-PUBLISHED-TTL:PT1H
BEGIN:VTIMEZONE
TZID:UTC
BEGIN:STANDARD
TZOFFSETFROM:+0000
TZOFFSETTO:+0000
TZNAME:UTC
DTSTART:20240101T000000
END:STANDARD
END:VTIMEZONE
BEGIN:VEVENT
DTSTART;TZID=UTC:20240515T173000
DTEND;TZID=UTC:20240515T183000
DTSTAMP:20260423T055857
CREATED:20240517T134546Z
LAST-MODIFIED:20240517T134618Z
UID:5533-1715794200-1715797800@www.amoa.pt
SUMMARY:Audições Interdisciplinares - 2.º Semestre
DESCRIPTION:De 13 a 17 de maio de 2024\, decorrem as Audições Interdisciplinares do 2.º Semestre!\n \nEste momento de avaliação é aberto ao público em geral.\n\n\n \n\n\nA primeira Audição Interdisciplinar do dia 15 de maio\, decorre às 17H30 no Auditório da AMOA e conta com as classes de Oboé\, Percussão\, Trompete\, Vila d’Arco e Violoncelo!\n\n\n \n\n\nContamos com a visita de todos!
URL:https://www.amoa.pt/evento/audicoes-interdisciplinares-2-o-semestre-15/
LOCATION:Academia de Música de Oliveira de Azeméis\, Avenida António José de Almeida\, 249\, Oliveira de Azeméis\, Oliveira de Azeméis\, 3720-239\, Portugal
ATTACH;FMTTYPE=image/jpeg:https://www.amoa.pt/wp-content/uploads/2024/05/13.05-_-17.30-1.jpg
ORGANIZER;CN="Academia de M%C3%BAsica de Oliveira de Azem%C3%A9is":MAILTO:info@amoa.pt
END:VEVENT
BEGIN:VEVENT
DTSTART;TZID=UTC:20240515T190000
DTEND;TZID=UTC:20240515T200000
DTSTAMP:20260423T055857
CREATED:20240517T134751Z
LAST-MODIFIED:20240517T134948Z
UID:5535-1715799600-1715803200@www.amoa.pt
SUMMARY:Audições Interdisciplinares - 2.º Semestre
DESCRIPTION:De 13 a 17 de maio de 2024\, decorrem as Audições Interdisciplinares do 2.º Semestre!\n \nEste momento de avaliação é aberto ao público em geral.\n\n\n \n\n\nA segunda Audição Interdisciplinar do dia 15 de maio\, decorre às 19H00 no Auditório da AMOA e conta com as classes de Saxofone e Violino!\n\n\n \n\n\nContamos com a visita de todos!
URL:https://www.amoa.pt/evento/audicoes-interdisciplinares-2-o-semestre-16/
LOCATION:Academia de Música de Oliveira de Azeméis\, Avenida António José de Almeida\, 249\, Oliveira de Azeméis\, Oliveira de Azeméis\, 3720-239\, Portugal
ATTACH;FMTTYPE=image/jpeg:https://www.amoa.pt/wp-content/uploads/2024/05/15.05-_-19.00.jpg
ORGANIZER;CN="Academia de M%C3%BAsica de Oliveira de Azem%C3%A9is":MAILTO:info@amoa.pt
END:VEVENT
END:VCALENDAR