BEGIN:VCALENDAR
VERSION:2.0
PRODID:-//Academia de Música - ECPv6.4.0//NONSGML v1.0//EN
CALSCALE:GREGORIAN
METHOD:PUBLISH
X-ORIGINAL-URL:https://www.amoa.pt
X-WR-CALDESC:Events for Academia de Música
REFRESH-INTERVAL;VALUE=DURATION:PT1H
X-Robots-Tag:noindex
X-PUBLISHED-TTL:PT1H
BEGIN:VTIMEZONE
TZID:Europe/Lisbon
BEGIN:DAYLIGHT
TZOFFSETFROM:+0000
TZOFFSETTO:+0100
TZNAME:WEST
DTSTART:20240331T010000
END:DAYLIGHT
BEGIN:STANDARD
TZOFFSETFROM:+0100
TZOFFSETTO:+0000
TZNAME:WET
DTSTART:20241027T010000
END:STANDARD
END:VTIMEZONE
BEGIN:VEVENT
DTSTART;TZID=Europe/Lisbon:20240511T080000
DTEND;TZID=Europe/Lisbon:20240511T170000
DTSTAMP:20260423T060121
CREATED:20240510T133135Z
LAST-MODIFIED:20240510T133331Z
UID:5506-1715414400-1715446800@www.amoa.pt
SUMMARY:Celebração - 40.º Aniversário AMOA
DESCRIPTION:AMOA celebra o seu 40.º aniversário junto da comunidade oliveirense! \n  \nPais\, alunos\, professores e colaboradores juntar-se-ão no Largo da República para celebrar. \n  \nA Academia de Música de Oliveira de Azeméis celebra\, em 2024\, o seu 40.º Aniversário! \nCom um conjunto de ações programadas no âmbito desta celebração\, a segunda acontece já no próximo sábado! \nÀs 10Hoo\, pais\, alunos\, professores e colaboradores juntar-se-ão no Largo da República para celebrar! Serão cantados os parabéns\, cortado o bolo e distribuído pelos presentes nesta celebração. \nA AMOA escolheu assim que a segunda ação fosse junto da comunidade oliveirense\, a quem tantas vezes a AMOA leva cultura!
URL:https://www.amoa.pt/evento/celebracao-40-o-aniversario-amoa/
LOCATION:Largo da República\, Largo da República\, Oliveira de Azeméis\, \, 3720-240 Oliveira de Azeméis
ATTACH;FMTTYPE=image/jpeg:https://www.amoa.pt/wp-content/uploads/2024/05/PUB-PARABENS-AMOA_web.jpg
ORGANIZER;CN="Academia de M%C3%BAsica de Oliveira de Azem%C3%A9is":MAILTO:info@amoa.pt
END:VEVENT
END:VCALENDAR