BEGIN:VCALENDAR
VERSION:2.0
PRODID:-//Academia de Música - ECPv6.4.0//NONSGML v1.0//EN
CALSCALE:GREGORIAN
METHOD:PUBLISH
X-ORIGINAL-URL:https://www.amoa.pt
X-WR-CALDESC:Events for Academia de Música
REFRESH-INTERVAL;VALUE=DURATION:PT1H
X-Robots-Tag:noindex
X-PUBLISHED-TTL:PT1H
BEGIN:VTIMEZONE
TZID:UTC
BEGIN:STANDARD
TZOFFSETFROM:+0000
TZOFFSETTO:+0000
TZNAME:UTC
DTSTART:20240101T000000
END:STANDARD
END:VTIMEZONE
BEGIN:VEVENT
DTSTART;TZID=UTC:20240509T213000
DTEND;TZID=UTC:20240509T230000
DTSTAMP:20260423T060117
CREATED:20240506T132655Z
LAST-MODIFIED:20240510T132739Z
UID:5500-1715290200-1715295600@www.amoa.pt
SUMMARY:Concertos Interdisciplinares - 2.º Semestre
DESCRIPTION:Na quinta-feira\, dia 09 de maio\, terá lugar mais um Concerto Interdisciplinar da AMOA.\n\n\nÀ semelhança do anterior\, este Concerto conta com a participação dos alunos do Ensino Secundário e tem inicio às 21H30 no Auditório da AMOA.\n\n\nA entrada é livre\, estando sujeita à lotação da sala.
URL:https://www.amoa.pt/evento/concertos-interdisciplinares-2-o-semestre/
LOCATION:Academia de Música de Oliveira de Azeméis\, Avenida António José de Almeida\, 249\, Oliveira de Azeméis\, Oliveira de Azeméis\, 3720-239\, Portugal
ATTACH;FMTTYPE=image/jpeg:https://www.amoa.pt/wp-content/uploads/2024/05/2.-QUINTA-09.05_img-scaled.jpg
ORGANIZER;CN="Academia de M%C3%BAsica de Oliveira de Azem%C3%A9is":MAILTO:info@amoa.pt
END:VEVENT
END:VCALENDAR