BEGIN:VCALENDAR
VERSION:2.0
PRODID:-//Academia de Música - ECPv6.4.0//NONSGML v1.0//EN
CALSCALE:GREGORIAN
METHOD:PUBLISH
X-WR-CALNAME:Academia de Música
X-ORIGINAL-URL:https://www.amoa.pt
X-WR-CALDESC:Events for Academia de Música
REFRESH-INTERVAL;VALUE=DURATION:PT1H
X-Robots-Tag:noindex
X-PUBLISHED-TTL:PT1H
BEGIN:VTIMEZONE
TZID:UTC
BEGIN:STANDARD
TZOFFSETFROM:+0000
TZOFFSETTO:+0000
TZNAME:UTC
DTSTART:20240101T000000
END:STANDARD
END:VTIMEZONE
BEGIN:VEVENT
DTSTART;VALUE=DATE:20240413
DTEND;VALUE=DATE:20240414
DTSTAMP:20260423T074354
CREATED:20240311T151017Z
LAST-MODIFIED:20240312T094337Z
UID:5370-1712966400-1713052799@www.amoa.pt
SUMMARY:IX Olimpíadas AMOA - ELIMINATÓRIA
DESCRIPTION:Estão de volta as Olimpíadas da AMOA!!\n\n\n\nAs IX Olimpíadas da AMOA terão lugar nos dias 13 e 20 de abril de 2024 e as provas serão realizadas em regime misto: a eliminatória será em formato online e a final decorrerá presencialmente nas instalações da AMOA.\n\n\n\nO prazo de inscrições inicia às 12H00 do dia 11 de março de 2024 e termina às 12H20 do dia 01 de abril de 2024.\n\n\n\nFaz a tua inscrição e consulta o regulamento das IX Olimpíadas da AMOA em aqui.\n\n\n\nExclusivo para alunos da AMOA.
URL:https://www.amoa.pt/evento/ix-olimpiadas-amoa-eliminatoria/
LOCATION:Academia de Música de Oliveira de Azeméis\, Avenida António José de Almeida\, 249\, Oliveira de Azeméis\, Oliveira de Azeméis\, 3720-239\, Portugal
ATTACH;FMTTYPE=image/jpeg:https://www.amoa.pt/wp-content/uploads/2024/03/CARTAZ-IX-OLIMPIADAS_Social-Media-post_WEB-1-scaled.jpg
ORGANIZER;CN="Academia de M%C3%BAsica de Oliveira de Azem%C3%A9is":MAILTO:info@amoa.pt
END:VEVENT
END:VCALENDAR